Workbook
Name Jazyk: [1]Data!$A$1:$A$2
Name Language: '[2]Ceník 2021'!#REF!
Name Language: 'Ceník 2025'!#REF!
Name zzz: [3]ABC!$A$1:$E$65536

Sheet Ceník 2025
I7: Platnost ceníku od 1. 1. 2026
A8: Katalogové číslo | B8: Název položky | C8: Vaše cena | D8: Balení | E8: Balení 2 | F8: Paleta | G8: Měrná jednotka | H8: Hmotnost kg/MJ | I8: Celní číslo | J8: EAN 13 za MJ | K8: DPC 2026 | L8: 0.5
A9: UCHYCENÍ POTRUBÍ - OCELOVÉ OBJÍMKY | L9: =($L$8) -> 0.5
A10: JEDNOŠROUBOVÁ OBJÍMKA S UPÍNACÍ HLAVOU M8 NEBO KOMBINOVANOU HLAVOU M8/M10 | D10: NÁHLED | L10: =($L$9) -> 0.5
A11: 11001012 | B11: Objímka jednošroubová M8, 10–12mm 1/8", pozink | C11: =K11*(1-L11) -> 7.0642 | D11: 100 | E11: - | F11: 16000/14400 | G11: ks | H11: 0.028 | I11: 7326909890 | J11: 8592339000117 | K11: 14.1284 | L11: =($L$10) -> 0.5
A12: 11001216 | B12: Objímka jednošroubová M8, 12–16mm 1/4", pozink | C12: =K12*(1-L12) -> 7.4587 | D12: 100 | E12: - | F12: 12800/11200 | G12: ks | H12: 0.029 | I12: 7326909890 | J12: 8592339000216 | K12: 14.9174 | L12: =($L$10) -> 0.5
A13: 11001719 | B13: Objímka jednošroubová M8, 17–19mm 3/8", pozink | C13: =K13*(1-L13) -> 7.7585 | D13: 100 | E13: - | F13: 12800/11200 | G13: ks | H13: 0.032 | I13: 7326909890 | J13: 8592339000315 | K13: 15.517 | L13: =($L$10) -> 0.5
A14: 11002023 | B14: Objímka jednošroubová M8, 20–23mm 1/2", pozink | C14: =K14*(1-L14) -> 8.4476 | D14: 100 | E14: - | F14: 12800/11200 | G14: ks | H14: 0.037 | I14: 7326909890 | J14: 8592339000414 | K14: 16.8952 | L14: =($L$10) -> 0.5
A15: 11002530 | B15: Objímka jednošroubová M8, 25–30mm 3/4", pozink | C15: =K15*(1-L15) -> 9.22605 | D15: 100 | E15: - | F15: 11200/9600 | G15: ks | H15: 0.042 | I15: 7326909890 | J15: 8592339000513 | K15: 18.4521 | L15: =($L$10) -> 0.5
A16: 11003138 | B16: Objímka jednošroubová M8, 31–38mm 1", pozink | C16: =K16*(1-L16) -> 10.08345 | D16: 100 | E16: - | F16: 8000/6400 | G16: ks | H16: 0.048 | I16: 7326909890 | J16: 8592339000612 | K16: 20.1669 | L16: =($L$10) -> 0.5
A17: 11004046 | B17: Objímka jednošroubová M8, 40–46mm 5/4", pozink | C17: =K17*(1-L17) -> 10.55685 | D17: 100 | E17: - | F17: 6000/5000 | G17: ks | H17: 0.055 | I17: 7326909890 | J17: 8592339000711 | K17: 21.1137 | L17: =($L$10) -> 0.5
A18: 11004853 | B18: Objímka jednošroubová M8, 48–53mm 6/4", pozink | C18: =K18*(1-L18) -> 11.6404 | D18: 50 | E18: - | F18: 4800/4000 | G18: ks | H18: 0.063 | I18: 7326909890 | J18: 8592339000810 | K18: 23.2808 | L18: =($L$10) -> 0.5
A19: 11006064 | B19: Objímka jednošroubová M8, 60–64mm 2", pozink | C19: =K19*(1-L19) -> 15.9115 | D19: 50 | E19: - | F19: 4000/4000 | G19: ks | H19: 0.078 | I19: 7326909890 | J19: 8592339192928 | K19: 31.823 | L19: =($L$10) -> 0.5
A20: 11007278 | B20: Objímka jednošroubová M8/M10, 72-78mm 2 1/2", pozink | C20: =K20*(1-L20) -> 22.82315 | D20: 50 | E20: - | F20: 3000/2500 | G20: ks | H20: 0.13 | I20: 7326909890 | J20: 8592339229631 | K20: 45.6463 | L20: =($L$10) -> 0.5
A21: 11008792 | B21: Objímka jednošroubová M8/M10, 87-92mm 3", pozink | C21: =K21*(1-L21) -> 25.04815 | D21: 50 | E21: - | F21: 2100/1800 | G21: ks | H21: 0.147 | I21: 7326909890 | J21: 8592339229648 | K21: 50.0963 | L21: =($L$10) -> 0.5
A22: 11102116 | B22: Objímka jednošroubová M8/M10, 102-116mm 4", pozink | C22: =K22*(1-L22) -> 32.1281 | D22: 50 | E22: - | F22: 1800/1500 | G22: ks | H22: 0.21 | I22: 7326909890 | J22: 8592339229655 | K22: 64.2562 | L22: =($L$10) -> 0.5
... A29: 11114853 | B29: Objímka jednošroubová M8/M10, 48–53mm 6/4" s kombinovanou hlavou, pozink | C29: =K29*(1-L29) -> 13.00275 | D29: 50 | E29: - | F29: 4800/4000 | G29: ks | H29: 0.065 | I29: 7326909890 | J29: 8592339221758 | K29: 26.0055 | L29: =($L$10) -> 0.5
A30: 11116064 | B30: Objímka jednošroubová M8/M10, 60–64mm 2" s kombinovanou hlavou, pozink | C30: =K30*(1-L30) -> 17.6789 | D30: 50 | E30: - | F30: 4000 | G30: ks | H30: 0.084 | I30: 7326909890 | J30: 8592339236349 | K30: 35.3578 | L30: =($L$10) -> 0.5
A31: DVOUŠROUBOVÁ OBJÍMKA S UPÍNACÍ HLAVOU M8 NEBO KOMBINOVANOU HLAVOU M8/M10 | D31: NÁHLED | L31: =($L$9) -> 0.5
A32: 12001216 | B32: Objímka dvoušroubová M8, 12–16mm 1/4", pozink | C32: =K32*(1-L32) -> 7.6843 | D32: 100 | E32: - | F32: 12800/11200 | G32: ks | H32: 0.038 | I32: 7326909890 | J32: 8592339002012 | K32: 15.3686 | L32: =($L$31) -> 0.5
A33: 12001719 | B33: Objímka dvoušroubová M8, 17–19mm 3/8", pozink | C33: =K33*(1-L33) -> 8.3251 | D33: 100 | E33: - | F33: 12800/11200 | G33: ks | H33: 0.041 | I33: 7326909890 | J33: 8592339002111 | K33: 16.6502 | L33: =($L$31) -> 0.5
A34: 12002023 | B34: Objímka dvoušroubová M8, 20–23mm 1/2", pozink | C34: =K34*(1-L34) -> 8.7042 | D34: 100 | E34: - | F34: 12800/11200 | G34: ks | H34: 0.045 | I34: 7326909890 | J34: 8592339002210 | K34: 17.4084 | L34: =($L$31) -> 0.5
A35: 12002530 | B35: Objímka dvoušroubová M8, 25–30mm 3/4", pozink | C35: =K35*(1-L35) -> 9.60135 | D35: 100 | E35: - | F35: 11200/9600 | G35: ks | H35: 0.051 | I35: 7326909890 | J35: 8592339002319 | K35: 19.2027 | L35: =($L$31) -> 0.5
A36: 12003138 | B36: Objímka dvoušroubová M8, 31–38mm 1", pozink | C36: =K36*(1-L36) -> 10.15135 | D36: 100 | E36: - | F36: 8000/6400 | G36: ks | H36: 0.056 | I36: 7326909890 | J36: 8592339002418 | K36: 20.3027 | L36: =($L$31) -> 0.5
A37: 12004046 | B37: Objímka dvoušroubová M8, 40–46mm 5/4", pozink | C37: =K37*(1-L37) -> 11.11255 | D37: 100 | E37: - | F37: 6000/5000 | G37: ks | H37: 0.064 | I37: 7326909890 | J37: 8592339002517 | K37: 22.2251 | L37: =($L$31) -> 0.5
A38: 12004853 | B38: Objímka dvoušroubová M8, 48–53mm 6/4", pozink | C38: =K38*(1-L38) -> 11.8228 | D38: 50 | E38: - | F38: 4800/4000 | G38: ks | H38: 0.07 | I38: 7326909890 | J38: 8592339002616 | K38: 23.6456 | L38: =($L$31) -> 0.5
A39: 12005459 | B39: Objímka dvoušroubová M8/M10, 54–59mm, pozink | C39: =K39*(1-L39) -> 17.2215 | D39: 50 | E39: - | F39: 4800/4000 | G39: ks | H39: 0.082 | I39: 7326909890 | J39: 8592339002715 | K39: 34.443 | L39: =($L$31) -> 0.5
A40: 12006064 | B40: Objímka dvoušroubová M8/M10, 60–64mm 2", pozink | C40: =K40*(1-L40) -> 18.49245 | D40: 50 | E40: - | F40: 4000 | G40: ks | H40: 0.102 | I40: 7326909890 | J40: 8592339002814 | K40: 36.9849 | L40: =($L$31) -> 0.5
A41: 12006771 | B41: Objímka dvoušroubová M8/M10, 67–71mm, pozink | C41: =K41*(1-L41) -> 19.85415 | D41: 50 | E41: - | F41: 4000/3200 | G41: ks | H41: 0.11 | I41: 7326909890 | J41: 8592339002913 | K41: 39.7083 | L41: =($L$31) -> 0.5
A42: 12007278 | B42: Objímka dvoušroubová M8/M10, 72–78mm 2 1/2", pozink | C42: =K42*(1-L42) -> 23.76835 | D42: 50 | E42: - | F42: 2500 | G42: ks | H42: 0.147 | I42: 7326909890 | J42: 8592339003019 | K42: 47.5367 | L42: =($L$31) -> 0.5
A43: 12008186 | B43: Objímka dvoušroubová M8/M10, 81–86mm, pozink | C43: =K43*(1-L43) -> 26.99905 | D43: 50 | E43: - | F43: 2100/1800 | G43: ks | H43: 0.157 | I43: 7326909890 | J43: 8592339003118 | K43: 53.9981 | L43: =($L$31) -> 0.5
A44: 12008792 | B44: Objímka dvoušroubová M8/M10, 87–92mm 3", pozink | C44: =K44*(1-L44) -> 28.01365 | D44: 50 | E44: - | F44: 2100/1800 | G44: ks | H44: 0.163 | I44: 7326909890 | J44: 8592339003217 | K44: 56.0273 | L44: =($L$31) -> 0.5
A45: 12095103 | B45: Objímka dvoušroubová M8/M10, 95–103mm, pozink | C45: =K45*(1-L45) -> 29.5249 | D45: 50 | E45: - | F45: 1800/1500 | G45: ks | H45: 0.18 | I45: 7326909890 | J45: 8592339003316 | K45: 59.0498 | L45: =($L$31) -> 0.5
A46: 12102116 | B46: Objímka dvoušroubová M8/M10, 102–116mm 4", pozink | C46: =K46*(1-L46) -> 34.1173 | D46: 50 | E46: - | F46: 1600 | G46: ks | H46: 0.231 | I46: 7326909890 | J46: 8592339003415 | K46: 68.2346 | L46: =($L$31) -> 0.5
A47: 12121127 | B47: Objímka dvoušroubová M8/M10, 121–127mm, pozink | C47: =K47*(1-L47) -> 43.96425 | D47: 25 | E47: - | F47: 1050/900 | G47: ks | H47: 0.32 | I47: 7326909890 | J47: 8592339003514 | K47: 87.9285 | L47: =($L$31) -> 0.5
A48: 12133141 | B48: Objímka dvoušroubová M8/M10, 133–141mm 5", pozink | C48: =K48*(1-L48) -> 47.2163 | D48: 25 | E48: - | F48: 900/750 | G48: ks | H48: 0.351 | I48: 7326909890 | J48: 8592339003613 | K48: 94.4326 | L48: =($L$31) -> 0.5
A49: 12159168 | B49: Objímka dvoušroubová M8/M10, 159–168mm 6", pozink | C49: =K49*(1-L49) -> 53.09565 | D49: 25 | E49: - | F49: 900/750 | G49: ks | H49: 0.402 | I49: 7326909890 | J49: 8592339003712 | K49: 106.1913 | L49: =($L$31) -> 0.5
A50: 12164170 | B50: Objímka dvoušroubová M8/M10, 164-170mm, pozink | C50: =K50*(1-L50) -> 57.7201 | D50: 25 | E50: - | F50: 900/750 | G50: ks | H50: 0.395 | I50: 7326909890 | J50: 8592339229662 | K50: 115.4402 | L50: =($L$31) -> 0.5
A51: 12182188 | B51: Objímka dvoušroubová M8/M10, 182-188mm, pozink | C51: =K51*(1-L51) -> 60.2192 | D51: 20 | E51: - | F51: 640 | G51: ks | H51: 0.44 | I51: 7326909890 | J51: 8592339229679 | K51: 120.4384 | L51: =($L$31) -> 0.5
A52: 12193203 | B52: Objímka dvoušroubová M8/M10, 193-203mm, pozink | C52: =K52*(1-L52) -> 61.5008 | D52: 15 | E52: - | F52: 450/360 | G52: ks | H52: 0.467 | I52: 7326909890 | J52: 8592339229686 | K52: 123.0016 | L52: =($L$31) -> 0.5
A53: 12200210 | B53: Objímka dvoušroubová M8/M10, 204–210mm 8", pozink | C53: =K53*(1-L53) -> 62.60085 | D53: 12 | E53: - | F53: 432/360 | G53: ks | H53: 0.486 | I53: 7326909890 | J53: 8592339003811 | K53: 125.2017 | L53: =($L$31) -> 0.5
A54: 12210219 | B54: Objímka dvoušroubová M8/M10, 210–219mm, pozink | C54: =K54*(1-L54) -> 63.7329 | D54: 12 | E54: - | F54: 432/360 | G54: ks | H54: 0.488 | I54: 7326909890 | J54: 8592339003910 | K54: 127.4658 | L54: =($L$31) -> 0.5
A55: 12221216 | B55: Objímka dvoušroubová M8/M10, 12–16mm | C55: =K55*(1-L55) -> 8.9712 | D55: 100 | E55: - | F55: 12800/11200 | G55: ks | H55: 0.045 | I55: 7326909890 | J55: 8592339237377 | K55: 17.9424 | L55: =($L$31) -> 0.5
A56: 12221719 | B56: Objímka dvoušroubová M8/M10, 17–19mm | C56: =K56*(1-L56) -> 9.56395 | D56: 100 | E56: - | F56: 12800/11200 | G56: ks | H56: 0.048 | I56: 7326909890 | J56: 8592339237384 | K56: 19.1279 | L56: =($L$31) -> 0.5
A57: 12222023 | B57: Objímka dvoušroubová M8/M10, 20–23mm | C57: =K57*(1-L57) -> 9.83095 | D57: 100 | E57: - | F57: 12800/11200 | G57: ks | H57: 0.051 | I57: 7326909890 | J57: 8592339237391 | K57: 19.6619 | L57: =($L$31) -> 0.5
A58: 12222530 | B58: Objímka dvoušroubová M8/M10, 25–30mm | C58: =K58*(1-L58) -> 10.8242 | D58: 100 | E58: - | F58: 9600/8000 | G58: ks | H58: 0.058 | I58: 7326909890 | J58: 8592339237407 | K58: 21.6484 | L58: =($L$31) -> 0.5
A59: 12223138 | B59: Objímka dvoušroubová M8/M10, 31–38mm | C59: =K59*(1-L59) -> 11.3742 | D59: 100 | E59: - | F59: 8000/6400 | G59: ks | H59: 0.064 | I59: 7326909890 | J59: 8592339237414 | K59: 22.7484 | L59: =($L$31) -> 0.5
A60: 12224046 | B60: Objímka dvoušroubová M8/M10, 40–46mm | C60: =K60*(1-L60) -> 12.3301 | D60: 100 | E60: - | F60: 6000/5000 | G60: ks | H60: 0.71 | I60: 7326909890 | J60: 8592339237421 | K60: 24.6602 | L60: =($L$31) -> 0.5
A61: 12224853 | B61: Objímka dvoušroubová M8/M10, 48–53mm | C61: =K61*(1-L61) -> 12.93885 | D61: 50 | E61: - | F61: 4800/4000 | G61: ks | H61: 0.08 | I61: 7326909890 | J61: 8592339237438 | K61: 25.8777 | L61: =($L$31) -> 0.5
A62: OBJÍMKOVÉ JEDNOŠROUBOVÉ SETY | D62: NÁHLED | L62: =($L$9) -> 0.5
A63: S11001012 | B63: SET: 2x Objímka jednošroubová M8, 10–12mm 1/8", 2x COMBI M8x80mm, 2x hmoždinka H10 | C63: =K63*(1-L63) -> 24.480859 | D63: 100 | E63: - | F63: - | G63: ks | H63: 0.09624 | I63: 7326909890 | J63: 8592339251328 | K63: 48.961718 | L63: =$L$62 -> 0.5
A64: S11001216 | B64: SET: 2x Objímka jednošroubová M8, 12–16mm 1/4", 2x COMBI M8x80mm, 2x hmoždinka H10 | C64: =K64*(1-L64) -> 25.314019 | D64: 100 | E64: - | F64: - | G64: ks | H64: 0.09824 | I64: 7326909890 | J64: 8592339251335 | K64: 50.628038 | L64: =$L$62 -> 0.5
A65: S11001719 | B65: SET: 2x Objímka jednošroubová M8, 17–19mm 3/8", 2x COMBI M8x80mm, 2x hmoždinka H10 | C65: =K65*(1-L65) -> 25.942811 | D65: 100 | E65: - | F65: - | G65: ks | H65: 0.10424 | I65: 7326909890 | J65: 8592339251342 | K65: 51.885622 | L65: =$L$62 -> 0.5
A66: S11002023 | B66: SET: 2x Objímka jednošroubová M8, 20–23mm 1/2", 2x COMBI M8x80mm, 2x hmoždinka H10 | C66: =K66*(1-L66) -> 27.404763 | D66: 100 | E66: - | F66: - | G66: ks | H66: 0.11424 | I66: 7326909890 | J66: 8592339251359 | K66: 54.809526 | L66: =$L$62 -> 0.5
A67: S11002530 | B67: SET: 2x Objímka jednošroubová M8, 25–30mm 3/4", 2x COMBI M8x80mm, 2x hmoždinka H10 | C67: =K67*(1-L67) -> 29.055342 | D67: 100 | E67: - | F67: - | G67: ks | H67: 0.12424 | I67: 7326909890 | J67: 8592339251366 | K67: 58.110684 | L67: =$L$62 -> 0.5
A68: S11003138 | B68: SET: 2x Objímka jednošroubová M8, 31–38mm 1", 2x COMBI M8x80mm, 2x hmoždinka H10 | C68: =K68*(1-L68) -> 30.87886 | D68: 100 | E68: - | F68: - | G68: ks | H68: 0.13626 | I68: 7326909890 | J68: 8592339251373 | K68: 61.75772 | L68: =$L$62 -> 0.5
A69: S11004046 | B69: SET: 2x Objímka jednošroubová M8, 40–46mm 5/4", 2x COMBI M8x80mm, 2x hmoždinka H10 | C69: =K69*(1-L69) -> 31.884906 | D69: 75 | E69: - | F69: - | G69: ks | H69: 0.15026 | I69: 7326909890 | J69: 8592339251380 | K69: 63.769812 | L69: =$L$62 -> 0.5
A70: S11004853 | B70: SET: 2x Objímka jednošroubová M8, 48–53mm 6/4", 2x COMBI M8x80mm, 2x hmoždinka H10 | C70: =K70*(1-L70) -> 34.180018 | D70: 50 | E70: - | F70: - | G70: ks | H70: 0.16626 | I70: 7326909890 | J70: 8592339251397 | K70: 68.360036 | L70: =$L$62 -> 0.5
A71: S11006064 | B71: SET: 2x Objímka jednošroubová M8, 60–64mm 2", 2x COMBI M8x80mm, 2x hmoždinka H10 | C71: =K71*(1-L71) -> 43.234644 | D71: 50 | E71: - | F71: - | G71: ks | H71: 0.19624 | I71: 7326909890 | J71: 8592339251403 | K71: 86.469288 | L71: =$L$62 -> 0.5
A72: S11007278 | B72: SET: 2x Objímka jednošroubová M8/M10, 72–78mm 2 1/2", 2x COMBI M8x80mm, 2x hmoždinka H10 | C72: =K72*(1-L72) -> 57.885487 | D72: 25 | E72: - | F72: - | G72: ks | H72: 0.30032 | I72: 7326909890 | J72: 8592339251410 | K72: 115.77097 | L72: =$L$62 -> 0.5
A73: S11008792 | B73: SET: 2x Objímka jednošroubová M8/M10, 87–92mm 3", 2x COMBI M8x80mm, 2x hmoždinka H10 | C73: =K73*(1-L73) -> 63.730804 | D73: 25 | E73: - | F73: - | G73: ks | H73: 0.33436 | I73: 7326909890 | J73: 8592339251427 | K73: 127.46161 | L73: =$L$62 -> 0.5
A74: S11102116 | B74: SET: 2x Objímka jednošroubová M8/M10, 102–116mm 4", 2x COMBI M8x80mm, 2x hmoždinka H10 | C74: =K74*(1-L74) -> 79.185392 | D74: 30 | E74: - | F74: - | G74: ks | H74: 0.4604 | I74: 7326909890 | J74: 8592339251434 | K74: 158.37078 | L74: =$L$62 -> 0.5
A75: OBJÍMKOVÉ DVOUŠROUBOVÉ SETY | D75: NÁHLED | L75: =($L$9) -> 0.5
A76: S12001216 | B76: Objímka dvoušroubová M8, 12–16mm 1/4", M8x100mm, H10 | C76: =K76*(1-L76) -> 13.742317 | D76: 100 | E76: - | F76: - | G76: ks | H76: 0.0641 | I76: 7326909890 | J76: 8592339243019 | K76: 27.484634 | L76: =($L$75) -> 0.5
A77: S12001719 | B77: Objímka dvoušroubová M8, 17–19mm 3/8", M8x100mm, H10 | C77: =K77*(1-L77) -> 14.06461 | D77: 100 | E77: - | F77: - | G77: ks | H77: 0.0671 | I77: 7326909890 | J77: 8592339243026 | K77: 28.12922 | L77: =($L$75) -> 0.5
A78: S12002023 | B78: Objímka dvoušroubová M8, 20–23mm 1/2", M8x100mm, H10 | C78: =K78*(1-L78) -> 14.811274 | D78: 100 | E78: - | F78: - | G78: ks | H78: 0.0711 | I78: 7326909890 | J78: 8592339243033 | K78: 29.622548 | L78: =($L$75) -> 0.5
A79: S12002530 | B79: Objímka dvoušroubová M8, 25–30mm 3/4", M8x100mm, H10 | C79: =K79*(1-L79) -> 15.746618 | D79: 100 | E79: - | F79: - | G79: ks | H79: 0.0771 | I79: 7326909890 | J79: 8592339243040 | K79: 31.493236 | L79: =($L$75) -> 0.5
A80: S12003138 | B80: Objímka dvoušroubová M8, 31–38mm 1", M8x100mm, H10 | C80: =K80*(1-L80) -> 16.320396 | D80: 100 | E80: - | F80: - | G80: ks | H80: 0.0821 | I80: 7326909890 | J80: 8592339243057 | K80: 32.640792 | L80: =($L$75) -> 0.5
A81: S12004046 | B81: Objímka dvoušroubová M8, 40–46mm 5/4", M8x100mm, H10 | C81: =K81*(1-L81) -> 17.318598 | D81: 75 | E81: - | F81: - | G81: ks | H81: 0.0901 | I81: 7326909890 | J81: 8592339243064 | K81: 34.637196 | L81: =($L$75) -> 0.5
A82: S12004853 | B82: Objímka dvoušroubová M8, 48–53mm 6/4", M8x100mm, H10 | C82: =K82*(1-L82) -> 18.065262 | D82: 50 | E82: - | F82: - | G82: ks | H82: 0.0961 | I82: 7326909890 | J82: 8592339243071 | K82: 36.130524 | L82: =($L$75) -> 0.5
A83: S12005459 | B83: Objímka dvoušroubová M8/M10, 54–59mm, M10x120mm, H12 | C83: =K83*(1-L83) -> 27.187887 | D83: 50 | E83: - | F83: - | G83: ks | H83: 0.1325 | I83: 7326909890 | J83: 8592339243088 | K83: 54.375774 | L83: =($L$75) -> 0.5
A84: S12006064 | B84: Objímka dvoušroubová M8/M10, 60–64mm 2", M10x120mm, H12 | C84: =K84*(1-L84) -> 28.571505 | D84: 50 | E84: - | F84: - | G84: ks | H84: 0.1525 | I84: 7326909890 | J84: 8592339243095 | K84: 57.14301 | L84: =($L$75) -> 0.5
A85: S12006771 | B85: Objímka dvoušroubová M8/M10, 67–71mm, M10x120mm, H12 | C85: =K85*(1-L85) -> 30.754575 | D85: 30 | E85: - | F85: - | G85: ks | H85: 0.1605 | I85: 7326909890 | J85: 8592339243101 | K85: 61.50915 | L85: =($L$75) -> 0.5
A86: S12007278 | B86: Objímka dvoušroubová M8/M10, 72–78mm 2 1/2", M10x120mm, H12 | C86: =K86*(1-L86) -> 33.978194 | D86: 25 | E86: - | F86: - | G86: ks | H86: 0.1975 | I86: 7326909890 | J86: 8592339243118 | K86: 67.956388 | L86: =($L$75) -> 0.5
A87: S12008186 | B87: Objímka dvoušroubová M8/M10, 81–86mm, M10x120mm, H12 | C87: =K87*(1-L87) -> 37.358799 | D87: 25 | E87: - | F87: - | G87: ks | H87: 0.2075 | I87: 7326909890 | J87: 8592339243125 | K87: 74.717598 | L87: =($L$75) -> 0.5
... A98: S12210219 | B98: Objímka dvoušroubová M8/M10, 210–219mm, M10x120mm, H12 | C98: =K98*(1-L98) -> 79.724031 | D98: 10 | E98: - | F98: - | G98: ks | H98: 0.5385 | I98: 7326909890 | J98: 8592339243231 | K98: 159.44806 | L98: =($L$75) -> 0.5
A99: OBJÍMKA QUICK LOCK S UPÍNACÍ HLAVOU M8/M10 | D99: NÁHLED | L99: =($L$9) -> 0.5
A100: 10001719 | B100: Objímka s Quick-Lock systémem M8/M10, 17 – 19 mm 3/8", pozink (zrušeno - pouze do vyprodání zásob) | C100: 1.99 | D100: 100 | E100: - | F100: 12800/11200 | G100: ks | H100: 0.041 | I100: 7326909890 | J100: 8592339232174 | K100: 1.99 | L100: =($L$99) -> 0.5
A101: 10002023 | B101: Objímka s Quick-Lock systémem M8/M10, 20 – 23 mm 1/2", pozink | C101: =K101*(1-L101) -> 13.12705 | D101: 100 | E101: - | F101: 11200/9600 | G101: ks | H101: 0.044 | I101: 7326909890 | J101: 8592339232181 | K101: 26.2541 | L101: =($L$99) -> 0.5
A102: 10002530 | B102: Objímka s Quick-Lock systémem M8/M10, 25 – 30 mm 3/4", pozink | C102: =K102*(1-L102) -> 15.6879 | D102: 100 | E102: - | F102: 9600/8000 | G102: ks | H102: 0.051 | I102: 7326909890 | J102: 8592339232198 | K102: 31.3758 | L102: =($L$99) -> 0.5
A103: 10003138 | B103: Objímka s Quick-Lock systémem M8/M10, 31 – 38 mm 1", pozink | C103: =K103*(1-L103) -> 16.49465 | D103: 100 | E103: - | F103: 8000/6400 | G103: ks | H103: 0.056 | I103: 7326909890 | J103: 8592339232204 | K103: 32.9893 | L103: =($L$99) -> 0.5
A104: 10004046 | B104: Objímka s Quick-Lock systémem M8/M10, 40 – 46 mm 5/4", pozink | C104: =K104*(1-L104) -> 17.0568 | D104: 100 | E104: - | F104: 6000/5000 | G104: ks | H104: 0.063 | I104: 7326909890 | J104: 8592339232211 | K104: 34.1136 | L104: =($L$99) -> 0.5
A105: 10004853 | B105: Objímka s Quick-Lock systémem M8/M10, 48 – 53 mm 6/4", pozink | C105: =K105*(1-L105) -> 17.61895 | D105: 100 | E105: - | F105: 4800/4000 | G105: ks | H105: 0.07 | I105: 7326909890 | J105: 8592339232228 | K105: 35.2379 | L105: =($L$99) -> 0.5
A106: 10005459 | B106: Objímka s Quick-Lock systémem M8/M10, 54 – 59 mm, pozink | C106: =K106*(1-L106) -> 21.9339 | D106: 50 | E106: - | F106: 4800/4000 | G106: ks | H106: 0.076 | I106: 7326909890 | J106: 8592339232235 | K106: 43.8678 | L106: =($L$99) -> 0.5
A107: 10006064 | B107: Objímka s Quick-Lock systémem M8/M10, 60 – 64 mm 2", pozink | C107: =K107*(1-L107) -> 22.41795 | D107: 50 | E107: - | F107: 4000 | G107: ks | H107: 0.078 | I107: 7326909890 | J107: 8592339232242 | K107: 44.8359 | L107: =($L$99) -> 0.5
A108: 10006771 | B108: Objímka s Quick-Lock systémem M8/M10, 67 – 71 mm, pozink | C108: =K108*(1-L108) -> 27.1441 | D108: 50 | E108: - | F108: 3000/2500 | G108: ks | H108: 0.141 | I108: 7326909890 | J108: 8592339232259 | K108: 54.2882 | L108: =($L$99) -> 0.5
A109: 10007278 | B109: Objímka s Quick-Lock systémem M8/M10, 72 – 78 mm 2 1/2", pozink | C109: =K109*(1-L109) -> 30.4961 | D109: 50 | E109: - | F109: 2500 | G109: ks | H109: 0.156 | I109: 7326909890 | J109: 8592339232266 | K109: 60.9922 | L109: =($L$99) -> 0.5
A110: 10008186 | B110: Objímka s Quick-Lock systémem M8/M10, 81 – 86 mm, pozink | C110: =K110*(1-L110) -> 34.1032 | D110: 50 | E110: - | F110: 2100/1800 | G110: ks | H110: 0.164 | I110: 7326909890 | J110: 8592339232273 | K110: 68.2064 | L110: =($L$99) -> 0.5
A111: 10008792 | B111: Objímka s Quick-Lock systémem M8/M10, 87 – 92 mm 3", pozink | C111: =K111*(1-L111) -> 34.0355 | D111: 50 | E111: - | F111: 2100/1800 | G111: ks | H111: 0.169 | I111: 7326909890 | J111: 8592339232280 | K111: 68.071 | L111: =($L$99) -> 0.5
A112: 10095103 | B112: Objímka s Quick-Lock systémem M8/M10, 95 – 103 mm, pozink | C112: =K112*(1-L112) -> 35.7896 | D112: 50 | E112: - | F112: 1800/1500 | G112: ks | H112: 0.181 | I112: 7326909890 | J112: 8592339232297 | K112: 71.5792 | L112: =($L$99) -> 0.5
A113: 10106116 | B113: Objímka s Quick-Lock systémem M8/M10, 106 – 116 mm 4", pozink | C113: =K113*(1-L113) -> 45.4761 | D113: 50 | E113: - | F113: 1600 | G113: ks | H113: 0.245 | I113: 7326909890 | J113: 8592339232303 | K113: 90.9522 | L113: =($L$99) -> 0.5
A114: SILIKONOVÁ/KLUZNÁ OBJÍMKA JEDNOŠROUBOVÁ S UPÍNACÍ HLAVOU M8 | D114: NÁHLED | L114: =($L$9) -> 0.5
A115: 13001216 | B115: Objímka kluzná jednošroubová M8, 12-16mm 1/4", pozink | C115: =K115*(1-L115) -> 12.55615 | D115: 100 | E115: - | F115: 12800/11200 | G115: ks | H115: 0.031 | I115: 7326909890 | J115: 8592339007017 | K115: 25.1123 | L115: =($L$114) -> 0.5
A116: 13001719 | B116: Objímka kluzná jednošroubová M8, 17-19mm 3/8", pozink | C116: =K116*(1-L116) -> 12.87635 | D116: 100 | E116: - | F116: 12800/11200 | G116: ks | H116: 0.035 | I116: 7326909890 | J116: 8592339007116 | K116: 25.7527 | L116: =($L$114) -> 0.5
A117: 13002023 | B117: Objímka kluzná jednošroubová M8, 20-23mm 1/2", pozink | C117: =K117*(1-L117) -> 13.42385 | D117: 100 | E117: - | F117: 11200/9600 | G117: ks | H117: 0.036 | I117: 7326909890 | J117: 8592339007215 | K117: 26.8477 | L117: =($L$114) -> 0.5
A118: 13002530 | B118: Objímka kluzná jednošroubová M8, 25-30mm 3/4", pozink | C118: =K118*(1-L118) -> 13.89905 | D118: 100 | E118: - | F118: 9600/8000 | G118: ks | H118: 0.041 | I118: 7326909890 | J118: 8592339007314 | K118: 27.7981 | L118: =($L$114) -> 0.5
A119: 13003138 | B119: Objímka kluzná jednošroubová M8, 31-38mm 1", pozink | C119: =K119*(1-L119) -> 13.89905 | D119: 100 | E119: - | F119: 8000/6400 | G119: ks | H119: 0.048 | I119: 7326909890 | J119: 8592339007413 | K119: 27.7981 | L119: =($L$114) -> 0.5
A120: 13004046 | B120: Objímka kluzná jednošroubová M8, 40-46mm 5/4", pozink | C120: =K120*(1-L120) -> 15.0095 | D120: 100 | E120: - | F120: 6000/5000 | G120: ks | H120: 0.055 | I120: 7326909890 | J120: 8592339007512 | K120: 30.019 | L120: =($L$114) -> 0.5
A121: 13004853 | B121: Objímka kluzná jednošroubová M8, 48-53mm 6/4", pozink | C121: =K121*(1-L121) -> 15.8101 | D121: 50 | E121: - | F121: 4800/4000 | G121: ks | H121: 0.06 | I121: 7326909890 | J121: 8592339007611 | K121: 31.6202 | L121: =($L$114) -> 0.5
A122: SILIKONOVÁ/KLUZNÁ OBJÍMKA DVOUŠROUBOVÁ S UPÍNACÍ HLAVOU M8/M10 | D122: NÁHLED | L122: =($L$9) -> 0.5
...

Sheet Poznámky
A1: 31250827 Jezdec pro nosník M8, 27x18+28x30, NEREZ A2 | B1: obchod@konarik.cz
A2: 31250838 Jezdec pro nosník M8, 38x40+40x60, NEREZ A2 | B2: Dobrý den,%0A%0APočet ks: X ks%0APožadovaný termín dodání: X dní%0AFirma:%0ATelefonní kontakt:%0A%0AS přáním příjemného dne
A3: 31251038 Jezdec pro nosník M10, 38x40+40x60, NEREZ A2 | B3: tomas.malina@konarik.cz
A4: 21212080 Šroub KOMBI M12x80mm NEREZ A2 | B4: Potvrzení obchodních podmínek
A5: 21212100 Šroub KOMBI M12x100mm NEREZ A2 | B5: Dobrý den,%0A%0Apotvrzuji přečtení a odsouhlasení obchodních podmínek: https://konarik.cz/wp-content/uploads/2020/02/VOP2019.pdf.%0A%0AS přáním příjemného dne
A6: 21212120 Šroub KOMBI M12x120mm NEREZ A2 | B6: https://konarik.cz/wp-content/uploads/2020/02/VOP2019.pdf
A7: 21212140 Šroub KOMBI M12x140mm NEREZ A2
A8: 21212160 Šroub KOMBI M12x160mm NEREZ A2
A9: 21212180 Šroub KOMBI M12x180mm NEREZ A2
A10: 22422002 Závitová tyč DIN975 M22x2000mm 4.6 pozink
A11: 22424002 Závitová tyč DIN975 M24x2000mm 4.6 pozink
A12: 22427002 Závitová tyč DIN975 M27x2000mm 4.6 pozink
A13: 22430002 Závitová tyč DIN975 M30x2000mm 4.6 pozink
A14: 22442003 Závitová tyč DIN975 M20x3000mm 4.6 pozink
A15: 22442403 Závitová tyč DIN975 M24x3000mm 4.6 pozink
A16: 22443003 Závitová tyč DIN975 M30x3000mm 4.6 pozink
A17: 22450501 Závitová tyč DIN975 M5x1000mm 8.8 pozink
A18: 22450601 Závitová tyč DIN975 M6x1000mm 8.8 pozink
... A1028: 22751620 Závitová tyč DIN975 M16x2000mm NEREZ A2
A1029: 54036008 Závěsné oko z ploché oceli D8 ON130636 černé | B1029: 31306220 | C1029: Podložka DIN6798-A vějířová M20 NEREZ A2 | K1029: =B1029&" "&C1029 -> 31306220 Podložka DIN6798-A vějířová M20 NEREZ A2
A1030: 54036010 Závěsné oko z ploché oceli D10 ON130636 černé | B1030: 31304220 | C1030: Podložka DIN440 R M20 pr.22mm NEREZ A2 | K1030: =B1030&" "&C1030 -> 31304220 Podložka DIN440 R M20 pr.22mm NEREZ A2
A1031: 54036012 Závěsné oko z ploché oceli D12 ON130636 černé | B1031: 46813267 | C1031: Objímka izolační KX 267/13mm M12,M16,1/2", pozink | K1031: =B1031&" "&C1031 -> 46813267 Objímka izolační KX 267/13mm M12,M16,1/2", pozink
A1032: 54036016 Závěsné oko z ploché oceli D16 ON130636 černé | B1032: 46813273 | C1032: Objímka izolační KX 273/13mm M12,M16,1/2", pozink | K1032: =B1032&" "&C1032 -> 46813273 Objímka izolační KX 273/13mm M12,M16,1/2", pozink
A1033: 54036020 Závěsné oko z ploché oceli D20 ON130636 černé | B1033: 54036020 | C1033: Závěsné oko z ploché oceli D20 ON130636 černé | K1033: =B1033&" "&C1033 -> 54036020 Závěsné oko z ploché oceli D20 ON130636 černé
A1034: 54036024 Závěsné oko z ploché oceli D24 ON130636 černé | B1034: 54036024 | C1034: Závěsné oko z ploché oceli D24 ON130636 černé | K1034: =B1034&" "&C1034 -> 54036024 Závěsné oko z ploché oceli D24 ON130636 černé
A1035: 46813216 Objímka izolační KX 216/13mm M12,M16,1/2", pozink
A1036: 46813219 Objímka izolační KX 219/13mm M12,M16,1/2", pozink
A1037: 46813267 Objímka izolační KX 267/13mm M12,M16,1/2", pozink
A1038: 46813273 Objímka izolační KX 273/13mm M12,M16,1/2", pozink
A1039: 24502050 Spojovací matice DIN6334 M20x30x60mm NEREZ A2
A1040: 31304216 Podložka DIN440 R M16 pr.17,5mm NEREZ A2
A1041: 31304220 Podložka DIN440 R M20 pr.22mm NEREZ A2
