Workbook
Name Jazyk: [1]Data!$A$1:$A$2
Name Language: '[2]Ceník 2021'!#REF!
Name Language: 'Ceník 2025'!#REF!
Name zzz: [3]ABC!$A$1:$E$65536

Sheet Ceník 2025
I7: Platnost ceníku od 1. 1. 2026
A8: Katalogové číslo | B8: Název položky | C8: Vaše cena | D8: Balení | E8: Balení 2 | F8: Paleta | G8: Měrná jednotka | H8: Hmotnost kg/MJ | I8: Celní číslo | J8: EAN 13 za MJ | K8: DPC 2026 | L8: 0.5
A9: UCHYCENÍ POTRUBÍ - OCELOVÉ OBJÍMKY | L9: =($L$8) -> 0.5
A10: JEDNOŠROUBOVÁ OBJÍMKA S UPÍNACÍ HLAVOU M8 NEBO KOMBINOVANOU HLAVOU M8/M10 | D10: NÁHLED | L10: =($L$9) -> 0.5
A11: 11001012 | B11: Objímka jednošroubová M8, 10–12mm 1/8", pozink | C11: =K11*(1-L11) -> 7.0642 | D11: 100 | E11: - | F11: 16000/14400 | G11: ks | H11: 0.028 | I11: 7326909890 | J11: 8592339000117 | K11: 14.1284 | L11: =($L$10) -> 0.5
A12: 11001216 | B12: Objímka jednošroubová M8, 12–16mm 1/4", pozink | C12: =K12*(1-L12) -> 7.4587 | D12: 100 | E12: - | F12: 12800/11200 | G12: ks | H12: 0.029 | I12: 7326909890 | J12: 8592339000216 | K12: 14.9174 | L12: =($L$10) -> 0.5
A13: 11001719 | B13: Objímka jednošroubová M8, 17–19mm 3/8", pozink | C13: =K13*(1-L13) -> 7.7585 | D13: 100 | E13: - | F13: 12800/11200 | G13: ks | H13: 0.032 | I13: 7326909890 | J13: 8592339000315 | K13: 15.517 | L13: =($L$10) -> 0.5
A14: 11002023 | B14: Objímka jednošroubová M8, 20–23mm 1/2", pozink | C14: =K14*(1-L14) -> 8.4476 | D14: 100 | E14: - | F14: 12800/11200 | G14: ks | H14: 0.037 | I14: 7326909890 | J14: 8592339000414 | K14: 16.8952 | L14: =($L$10) -> 0.5
A15: 11002530 | B15: Objímka jednošroubová M8, 25–30mm 3/4", pozink | C15: =K15*(1-L15) -> 9.22605 | D15: 100 | E15: - | F15: 11200/9600 | G15: ks | H15: 0.042 | I15: 7326909890 | J15: 8592339000513 | K15: 18.4521 | L15: =($L$10) -> 0.5
A16: 11003138 | B16: Objímka jednošroubová M8, 31–38mm 1", pozink | C16: =K16*(1-L16) -> 10.08345 | D16: 100 | E16: - | F16: 8000/6400 | G16: ks | H16: 0.048 | I16: 7326909890 | J16: 8592339000612 | K16: 20.1669 | L16: =($L$10) -> 0.5
A17: 11004046 | B17: Objímka jednošroubová M8, 40–46mm 5/4", pozink | C17: =K17*(1-L17) -> 10.55685 | D17: 100 | E17: - | F17: 6000/5000 | G17: ks | H17: 0.055 | I17: 7326909890 | J17: 8592339000711 | K17: 21.1137 | L17: =($L$10) -> 0.5
A18: 11004853 | B18: Objímka jednošroubová M8, 48–53mm 6/4", pozink | C18: =K18*(1-L18) -> 11.6404 | D18: 50 | E18: - | F18: 4800/4000 | G18: ks | H18: 0.063 | I18: 7326909890 | J18: 8592339000810 | K18: 23.2808 | L18: =($L$10) -> 0.5
A19: 11006064 | B19: Objímka jednošroubová M8, 60–64mm 2", pozink | C19: =K19*(1-L19) -> 15.9115 | D19: 50 | E19: - | F19: 4000/4000 | G19: ks | H19: 0.078 | I19: 7326909890 | J19: 8592339192928 | K19: 31.823 | L19: =($L$10) -> 0.5
A20: 11007278 | B20: Objímka jednošroubová M8/M10, 72-78mm 2 1/2", pozink | C20: =K20*(1-L20) -> 22.82315 | D20: 50 | E20: - | F20: 3000/2500 | G20: ks | H20: 0.13 | I20: 7326909890 | J20: 8592339229631 | K20: 45.6463 | L20: =($L$10) -> 0.5
A21: 11008792 | B21: Objímka jednošroubová M8/M10, 87-92mm 3", pozink | C21: =K21*(1-L21) -> 25.04815 | D21: 50 | E21: - | F21: 2100/1800 | G21: ks | H21: 0.147 | I21: 7326909890 | J21: 8592339229648 | K21: 50.0963 | L21: =($L$10) -> 0.5
A22: 11102116 | B22: Objímka jednošroubová M8/M10, 102-116mm 4", pozink | C22: =K22*(1-L22) -> 32.1281 | D22: 50 | E22: - | F22: 1800/1500 | G22: ks | H22: 0.21 | I22: 7326909890 | J22: 8592339229655 | K22: 64.2562 | L22: =($L$10) -> 0.5
... A29: 11114853 | B29: Objímka jednošroubová M8/M10, 48–53mm 6/4" s kombinovanou hlavou, pozink | C29: =K29*(1-L29) -> 13.00275 | D29: 50 | E29: - | F29: 4800/4000 | G29: ks | H29: 0.065 | I29: 7326909890 | J29: 8592339221758 | K29: 26.0055 | L29: =($L$10) -> 0.5
A30: 11116064 | B30: Objímka jednošroubová M8/M10, 60–64mm 2" s kombinovanou hlavou, pozink | C30: =K30*(1-L30) -> 17.6789 | D30: 50 | E30: - | F30: 4000 | G30: ks | H30: 0.084 | I30: 7326909890 | J30: 8592339236349 | K30: 35.3578 | L30: =($L$10) -> 0.5
A31: DVOUŠROUBOVÁ OBJÍMKA S UPÍNACÍ HLAVOU M8 NEBO KOMBINOVANOU HLAVOU M8/M10 | D31: NÁHLED | L31: =($L$9) -> 0.5
A32: 12001216 | B32: Objímka dvoušroubová M8, 12–16mm 1/4", pozink | C32: =K32*(1-L32) -> 7.6843 | D32: 100 | E32: - | F32: 12800/11200 | G32: ks | H32: 0.038 | I32: 7326909890 | J32: 8592339002012 | K32: 15.3686 | L32: =($L$31) -> 0.5
A33: 12001719 | B33: Objímka dvoušroubová M8, 17–19mm 3/8", pozink | C33: =K33*(1-L33) -> 8.3251 | D33: 100 | E33: - | F33: 12800/11200 | G33: ks | H33: 0.041 | I33: 7326909890 | J33: 8592339002111 | K33: 16.6502 | L33: =($L$31) -> 0.5
A34: 12002023 | B34: Objímka dvoušroubová M8, 20–23mm 1/2", pozink | C34: =K34*(1-L34) -> 8.7042 | D34: 100 | E34: - | F34: 12800/11200 | G34: ks | H34: 0.045 | I34: 7326909890 | J34: 8592339002210 | K34: 17.4084 | L34: =($L$31) -> 0.5
A35: 12002530 | B35: Objímka dvoušroubová M8, 25–30mm 3/4", pozink | C35: =K35*(1-L35) -> 9.60135 | D35: 100 | E35: - | F35: 11200/9600 | G35: ks | H35: 0.051 | I35: 7326909890 | J35: 8592339002319 | K35: 19.2027 | L35: =($L$31) -> 0.5
A36: 12003138 | B36: Objímka dvoušroubová M8, 31–38mm 1", pozink | C36: =K36*(1-L36) -> 10.15135 | D36: 100 | E36: - | F36: 8000/6400 | G36: ks | H36: 0.056 | I36: 7326909890 | J36: 8592339002418 | K36: 20.3027 | L36: =($L$31) -> 0.5
A37: 12004046 | B37: Objímka dvoušroubová M8, 40–46mm 5/4", pozink | C37: =K37*(1-L37) -> 11.11255 | D37: 100 | E37: - | F37: 6000/5000 | G37: ks | H37: 0.064 | I37: 7326909890 | J37: 8592339002517 | K37: 22.2251 | L37: =($L$31) -> 0.5
A38: 12004853 | B38: Objímka dvoušroubová M8, 48–53mm 6/4", pozink | C38: =K38*(1-L38) -> 11.8228 | D38: 50 | E38: - | F38: 4800/4000 | G38: ks | H38: 0.07 | I38: 7326909890 | J38: 8592339002616 | K38: 23.6456 | L38: =($L$31) -> 0.5
A39: 12005459 | B39: Objímka dvoušroubová M8/M10, 54–59mm, pozink | C39: =K39*(1-L39) -> 17.2215 | D39: 50 | E39: - | F39: 4800/4000 | G39: ks | H39: 0.082 | I39: 7326909890 | J39: 8592339002715 | K39: 34.443 | L39: =($L$31) -> 0.5
A40: 12006064 | B40: Objímka dvoušroubová M8/M10, 60–64mm 2", pozink | C40: =K40*(1-L40) -> 18.49245 | D40: 50 | E40: - | F40: 4000 | G40: ks | H40: 0.102 | I40: 7326909890 | J40: 8592339002814 | K40: 36.9849 | L40: =($L$31) -> 0.5
A41: 12006771 | B41: Objímka dvoušroubová M8/M10, 67–71mm, pozink | C41: =K41*(1-L41) -> 19.85415 | D41: 50 | E41: - | F41: 4000/3200 | G41: ks | H41: 0.11 | I41: 7326909890 | J41: 8592339002913 | K41: 39.7083 | L41: =($L$31) -> 0.5
A42: 12007278 | B42: Objímka dvoušroubová M8/M10, 72–78mm 2 1/2", pozink | C42: =K42*(1-L42) -> 23.76835 | D42: 50 | E42: - | F42: 2500 | G42: ks | H42: 0.147 | I42: 7326909890 | J42: 8592339003019 | K42: 47.5367 | L42: =($L$31) -> 0.5
A43: 12008186 | B43: Objímka dvoušroubová M8/M10, 81–86mm, pozink | C43: =K43*(1-L43) -> 26.99905 | D43: 50 | E43: - | F43: 2100/1800 | G43: ks | H43: 0.157 | I43: 7326909890 | J43: 8592339003118 | K43: 53.9981 | L43: =($L$31) -> 0.5
A44: 12008792 | B44: Objímka dvoušroubová M8/M10, 87–92mm 3", pozink | C44: =K44*(1-L44) -> 28.01365 | D44: 50 | E44: - | F44: 2100/1800 | G44: ks | H44: 0.163 | I44: 7326909890 | J44: 8592339003217 | K44: 56.0273 | L44: =($L$31) -> 0.5
A45: 12095103 | B45: Objímka dvoušroubová M8/M10, 95–103mm, pozink | C45: =K45*(1-L45) -> 29.5249 | D45: 50 | E45: - | F45: 1800/1500 | G45: ks | H45: 0.18 | I45: 7326909890 | J45: 8592339003316 | K45: 59.0498 | L45: =($L$31) -> 0.5
A46: 12102116 | B46: Objímka dvoušroubová M8/M10, 102–116mm 4", pozink | C46: =K46*(1-L46) -> 34.1173 | D46: 50 | E46: - | F46: 1600 | G46: ks | H46: 0.231 | I46: 7326909890 | J46: 8592339003415 | K46: 68.2346 | L46: =($L$31) -> 0.5
A47: 12121127 | B47: Objímka dvoušroubová M8/M10, 121–127mm, pozink | C47: =K47*(1-L47) -> 43.96425 | D47: 25 | E47: - | F47: 1050/900 | G47: ks | H47: 0.32 | I47: 7326909890 | J47: 8592339003514 | K47: 87.9285 | L47: =($L$31) -> 0.5
A48: 12133141 | B48: Objímka dvoušroubová M8/M10, 133–141mm 5", pozink | C48: =K48*(1-L48) -> 47.2163 | D48: 25 | E48: - | F48: 900/750 | G48: ks | H48: 0.351 | I48: 7326909890 | J48: 8592339003613 | K48: 94.4326 | L48: =($L$31) -> 0.5
A49: 12159168 | B49: Objímka dvoušroubová M8/M10, 159–168mm 6", pozink | C49: =K49*(1-L49) -> 53.09565 | D49: 25 | E49: - | F49: 900/750 | G49: ks | H49: 0.402 | I49: 7326909890 | J49: 8592339003712 | K49: 106.1913 | L49: =($L$31) -> 0.5
A50: 12164170 | B50: Objímka dvoušroubová M8/M10, 164-170mm, pozink | C50: =K50*(1-L50) -> 57.7201 | D50: 25 | E50: - | F50: 900/750 | G50: ks | H50: 0.395 | I50: 7326909890 | J50: 8592339229662 | K50: 115.4402 | L50: =($L$31) -> 0.5
A51: 12182188 | B51: Objímka dvoušroubová M8/M10, 182-188mm, pozink | C51: =K51*(1-L51) -> 60.2192 | D51: 20 | E51: - | F51: 640 | G51: ks | H51: 0.44 | I51: 7326909890 | J51: 8592339229679 | K51: 120.4384 | L51: =($L$31) -> 0.5
A52: 12193203 | B52: Objímka dvoušroubová M8/M10, 193-203mm, pozink | C52: =K52*(1-L52) -> 61.5008 | D52: 15 | E52: - | F52: 450/360 | G52: ks | H52: 0.467 | I52: 7326909890 | J52: 8592339229686 | K52: 123.0016 | L52: =($L$31) -> 0.5
...

Sheet Poznámky
A1: 31250827 Jezdec pro nosník M8, 27x18+28x30, NEREZ A2 | B1: obchod@konarik.cz
A2: 31250838 Jezdec pro nosník M8, 38x40+40x60, NEREZ A2 | B2: Dobrý den,%0A%0APočet ks: X ks%0APožadovaný termín dodání: X dní%0AFirma:%0ATelefonní kontakt:%0A%0AS přáním příjemného dne
A3: 31251038 Jezdec pro nosník M10, 38x40+40x60, NEREZ A2 | B3: tomas.malina@konarik.cz
A4: 21212080 Šroub KOMBI M12x80mm NEREZ A2 | B4: Potvrzení obchodních podmínek
A5: 21212100 Šroub KOMBI M12x100mm NEREZ A2 | B5: Dobrý den,%0A%0Apotvrzuji přečtení a odsouhlasení obchodních podmínek: https://konarik.cz/wp-content/uploads/2020/02/VOP2019.pdf.%0A%0AS přáním příjemného dne
A6: 21212120 Šroub KOMBI M12x120mm NEREZ A2 | B6: https://konarik.cz/wp-content/uploads/2020/02/VOP2019.pdf
A7: 21212140 Šroub KOMBI M12x140mm NEREZ A2
A8: 21212160 Šroub KOMBI M12x160mm NEREZ A2
A9: 21212180 Šroub KOMBI M12x180mm NEREZ A2
A10: 22422002 Závitová tyč DIN975 M22x2000mm 4.6 pozink
A11: 22424002 Závitová tyč DIN975 M24x2000mm 4.6 pozink
A12: 22427002 Závitová tyč DIN975 M27x2000mm 4.6 pozink
A13: 22430002 Závitová tyč DIN975 M30x2000mm 4.6 pozink
A14: 22442003 Závitová tyč DIN975 M20x3000mm 4.6 pozink
A15: 22442403 Závitová tyč DIN975 M24x3000mm 4.6 pozink
A16: 22443003 Závitová tyč DIN975 M30x3000mm 4.6 pozink
A17: 22450501 Závitová tyč DIN975 M5x1000mm 8.8 pozink
A18: 22450601 Závitová tyč DIN975 M6x1000mm 8.8 pozink
... A1028: 22751620 Závitová tyč DIN975 M16x2000mm NEREZ A2
A1029: 54036008 Závěsné oko z ploché oceli D8 ON130636 černé | B1029: 31306220 | C1029: Podložka DIN6798-A vějířová M20 NEREZ A2 | K1029: =B1029&" "&C1029 -> 31306220 Podložka DIN6798-A vějířová M20 NEREZ A2
A1030: 54036010 Závěsné oko z ploché oceli D10 ON130636 černé | B1030: 31304220 | C1030: Podložka DIN440 R M20 pr.22mm NEREZ A2 | K1030: =B1030&" "&C1030 -> 31304220 Podložka DIN440 R M20 pr.22mm NEREZ A2
A1031: 54036012 Závěsné oko z ploché oceli D12 ON130636 černé | B1031: 46813267 | C1031: Objímka izolační KX 267/13mm M12,M16,1/2", pozink | K1031: =B1031&" "&C1031 -> 46813267 Objímka izolační KX 267/13mm M12,M16,1/2", pozink
A1032: 54036016 Závěsné oko z ploché oceli D16 ON130636 černé | B1032: 46813273 | C1032: Objímka izolační KX 273/13mm M12,M16,1/2", pozink | K1032: =B1032&" "&C1032 -> 46813273 Objímka izolační KX 273/13mm M12,M16,1/2", pozink
A1033: 54036020 Závěsné oko z ploché oceli D20 ON130636 černé | B1033: 54036020 | C1033: Závěsné oko z ploché oceli D20 ON130636 černé | K1033: =B1033&" "&C1033 -> 54036020 Závěsné oko z ploché oceli D20 ON130636 černé
A1034: 54036024 Závěsné oko z ploché oceli D24 ON130636 černé | B1034: 54036024 | C1034: Závěsné oko z ploché oceli D24 ON130636 černé | K1034: =B1034&" "&C1034 -> 54036024 Závěsné oko z ploché oceli D24 ON130636 černé
A1035: 46813216 Objímka izolační KX 216/13mm M12,M16,1/2", pozink
A1036: 46813219 Objímka izolační KX 219/13mm M12,M16,1/2", pozink
A1037: 46813267 Objímka izolační KX 267/13mm M12,M16,1/2", pozink
A1038: 46813273 Objímka izolační KX 273/13mm M12,M16,1/2", pozink
A1039: 24502050 Spojovací matice DIN6334 M20x30x60mm NEREZ A2
A1040: 31304216 Podložka DIN440 R M16 pr.17,5mm NEREZ A2
A1041: 31304220 Podložka DIN440 R M20 pr.22mm NEREZ A2
